BEGIN:VCALENDAR
VERSION:2.0
PRODID:-//Institut Saint-Joseph Libramont - ECPv5.10.0//NONSGML v1.0//EN
CALSCALE:GREGORIAN
METHOD:PUBLISH
X-WR-CALNAME:Institut Saint-Joseph Libramont
X-ORIGINAL-URL:https://www.isjlibramont.be
X-WR-CALDESC:évènements pour Institut Saint-Joseph Libramont
BEGIN:VTIMEZONE
TZID:Europe/Paris
BEGIN:DAYLIGHT
TZOFFSETFROM:+0100
TZOFFSETTO:+0200
TZNAME:CEST
DTSTART:20230326T010000
END:DAYLIGHT
BEGIN:STANDARD
TZOFFSETFROM:+0200
TZOFFSETTO:+0100
TZNAME:CET
DTSTART:20231029T010000
END:STANDARD
END:VTIMEZONE
BEGIN:VEVENT
DTSTART;TZID=Europe/Paris:20230419T080000
DTEND;TZID=Europe/Paris:20230428T170000
DTSTAMP:20260425T185140
CREATED:20220830T184339Z
LAST-MODIFIED:20220830T184339Z
UID:3489-1681891200-1682701200@www.isjlibramont.be
SUMMARY:Classes de ferme
DESCRIPTION:
URL:https://www.isjlibramont.be/event/classes-de-ferme/
CATEGORIES:Dépaysement,Ecole
ATTACH;FMTTYPE=image/png:https://www.isjlibramont.be/wp-content/uploads/2022/08/Sans-titre-1.png
END:VEVENT
END:VCALENDAR