BEGIN:VCALENDAR
VERSION:2.0
PRODID:-//Institut Saint-Joseph Libramont - ECPv5.10.0//NONSGML v1.0//EN
CALSCALE:GREGORIAN
METHOD:PUBLISH
X-WR-CALNAME:Institut Saint-Joseph Libramont
X-ORIGINAL-URL:https://www.isjlibramont.be
X-WR-CALDESC:évènements pour Institut Saint-Joseph Libramont
BEGIN:VTIMEZONE
TZID:Europe/Paris
BEGIN:DAYLIGHT
TZOFFSETFROM:+0100
TZOFFSETTO:+0200
TZNAME:CEST
DTSTART:20220327T010000
END:DAYLIGHT
BEGIN:STANDARD
TZOFFSETFROM:+0200
TZOFFSETTO:+0100
TZNAME:CET
DTSTART:20221030T010000
END:STANDARD
END:VTIMEZONE
BEGIN:VEVENT
DTSTART;TZID=Europe/Paris:20221030T080000
DTEND;TZID=Europe/Paris:20221030T170000
DTSTAMP:20260425T201151
CREATED:20220830T182812Z
LAST-MODIFIED:20220830T182812Z
UID:3471-1667116800-1667149200@www.isjlibramont.be
SUMMARY:Envoi du PPIL
DESCRIPTION:
URL:https://www.isjlibramont.be/event/envoi-du-ppil/
CATEGORIES:Ecole
END:VEVENT
END:VCALENDAR